Name | Last modified | Size | Description | |
---|---|---|---|---|
Parent Directory | - | |||
buildsrc-out.txt | 30-Mar-2024 00:36 | 966 | ||
buildsrc-summary.dcf | 30-Mar-2024 00:36 | 417 | ||
checksrc-out.txt | 30-Mar-2024 00:36 | 6.8K | ||
checksrc-summary.dcf | 30-Mar-2024 00:36 | 414 | ||
install-out.txt | 30-Mar-2024 00:36 | 2.1K | ||
install-summary.dcf | 30-Mar-2024 00:36 | 259 | ||