Index of /checkResults/release/bioc-LATEST/pepStat/raw-results/lconway

[ICO]NameLast modifiedSizeDescription

[DIR]Parent Directory  -  
[   ]install-summary.dcf31-May-2024 00:35 269  
[TXT]install-out.txt31-May-2024 00:35 2.1K 
[   ]checksrc-summary.dcf31-May-2024 00:35 444  
[TXT]checksrc-out.txt31-May-2024 00:35 6.9K 
[   ]buildsrc-summary.dcf31-May-2024 00:35 427  
[TXT]buildsrc-out.txt31-May-2024 00:35 1.0K 
[   ]buildbin-summary.dcf31-May-2024 00:35 530  
[TXT]buildbin-out.txt31-May-2024 00:35 2.3K