Name | Last modified | Size | Description | |
---|---|---|---|---|
Parent Directory | - | |||
buildsrc-out.txt | 17-Jul-2024 06:39 | 802 | ||
buildsrc-summary.dcf | 17-Jul-2024 06:39 | 415 | ||
checksrc-out.txt | 17-Jul-2024 06:39 | 3.2K | ||
checksrc-summary.dcf | 17-Jul-2024 06:39 | 410 | ||
install-out.txt | 17-Jul-2024 06:39 | 949 | ||
install-summary.dcf | 17-Jul-2024 06:39 | 256 | ||