Name | Last modified | Size | Description | |
---|---|---|---|---|
Parent Directory | - | |||
buildsrc-out.txt | 19-May-2024 00:36 | 1.1K | ||
buildsrc-summary.dcf | 19-May-2024 00:36 | 409 | ||
checksrc-out.txt | 19-May-2024 00:36 | 3.5K | ||
checksrc-summary.dcf | 19-May-2024 00:36 | 402 | ||
install-out.txt | 19-May-2024 00:36 | 951 | ||
install-summary.dcf | 19-May-2024 00:36 | 253 | ||