![]() | Name | Last modified | Size | Description |
---|---|---|---|---|
![]() | Parent Directory | - | ||
![]() | buildbin-out.txt | 01-Oct-2023 00:36 | 1.1K | |
![]() | buildbin-summary.dcf | 01-Oct-2023 00:36 | 538 | |
![]() | buildsrc-out.txt | 01-Oct-2023 00:36 | 896 | |
![]() | buildsrc-summary.dcf | 01-Oct-2023 00:36 | 469 | |
![]() | checksrc-out.txt | 01-Oct-2023 00:36 | 3.6K | |
![]() | checksrc-summary.dcf | 01-Oct-2023 00:36 | 463 | |
![]() | install-out.txt | 01-Oct-2023 00:36 | 1.0K | |
![]() | install-summary.dcf | 01-Oct-2023 00:36 | 276 | |