Index of /checkResults/release/bioc-LATEST/paxtoolsr/raw-results/lconway

[ICO]NameLast modifiedSizeDescription

[DIR]Parent Directory  -  
[TXT]buildbin-out.txt14-Apr-2024 00:39 1.2K 
[   ]buildbin-summary.dcf14-Apr-2024 00:39 542  
[TXT]buildsrc-out.txt19-May-2024 00:38 1.4K 
[   ]buildsrc-summary.dcf19-May-2024 00:38 347  
[TXT]checksrc-out.txt14-Apr-2024 00:39 5.3K 
[   ]checksrc-summary.dcf14-Apr-2024 00:39 456  
[TXT]install-out.txt19-May-2024 00:38 1.0K 
[   ]install-summary.dcf19-May-2024 00:38 273