Back to Multiple platform build/check report for BioC 3.12
ABCDEFGHIJKLMNO[P]QRSTUVWXYZ

BUILD BIN report for pathprint on tokay1

This page was generated on 2021-04-21 12:10:07 -0400 (Wed, 21 Apr 2021).

To the developers/maintainers of the pathprint package:
Please make sure to use the following settings in order to reproduce any error or warning you see on this page.
Package 1306/1974HostnameOS / ArchINSTALLBUILDCHECKBUILD BIN
pathprint 1.20.0  (landing page)
Sokratis Kariotis
Snapshot Date: 2021-04-20 14:50:06 -0400 (Tue, 20 Apr 2021)
URL: https://git.bioconductor.org/packages/pathprint
Branch: RELEASE_3_12
Last Commit: c7e4ddd
Last Changed Date: 2020-10-27 11:22:19 -0400 (Tue, 27 Oct 2020)
malbec1Linux (Ubuntu 18.04.5 LTS) / x86_64  OK    OK    ERROR  
tokay1Windows Server 2012 R2 Standard / x64  OK    OK    ERROR    OK  
merida1macOS 10.14.6 Mojave / x86_64  OK    OK    ERROR    OK  

Summary

Package: pathprint
Version: 1.20.0
Command: rm -rf pathprint.buildbin-libdir && mkdir pathprint.buildbin-libdir && C:\Users\biocbuild\bbs-3.12-bioc\R\bin\R.exe CMD INSTALL --merge-multiarch --build --library=pathprint.buildbin-libdir pathprint_1.20.0.tar.gz
StartedAt: 2021-04-21 09:29:23 -0400 (Wed, 21 Apr 2021)
EndedAt: 2021-04-21 09:30:01 -0400 (Wed, 21 Apr 2021)
EllapsedTime: 38.2 seconds
RetCode: 0
Status:   OK   
PackageFile: pathprint_1.20.0.zip
PackageFileSize: 1.122 MiB

Command output

##############################################################################
##############################################################################
###
### Running command:
###
###   rm -rf pathprint.buildbin-libdir && mkdir pathprint.buildbin-libdir && C:\Users\biocbuild\bbs-3.12-bioc\R\bin\R.exe CMD INSTALL --merge-multiarch --build --library=pathprint.buildbin-libdir pathprint_1.20.0.tar.gz
###
##############################################################################
##############################################################################



install for i386

* installing *source* package 'pathprint' ...
** using staged installation
** R
** data
** inst
** byte-compile and prepare package for lazy loading
** help
*** installing help indices
  converting help for package 'pathprint'
    finding HTML links ... done
    consensusDistance                       html  
    consensusFingerprint                    html  
    customCDFAnn                            html  
    diffPathways                            html  
    exprs2fingerprint                       html  
    genesets                                html  
    pathprint-package                       html  
    pathprint.Ce.gs                         html  
    pathprint.Dm.gs                         html  
    pathprint.Dr.gs                         html  
    pathprint.Hs.gs                         html  
    pathprint.Mm.gs                         html  
    pathprint.Rn.gs                         html  
    platform.thresholds                     html  
    pluripotents.frame                      html  
    single.chip.enrichment                  html  
    thresholdFingerprint                    html  
** building package indices
** installing vignettes
** testing if installed package can be loaded from temporary location
Warning: Package 'pathprint' is deprecated and will be removed from Bioconductor
  version 3.13
** testing if installed package can be loaded from final location
Warning: Package 'pathprint' is deprecated and will be removed from Bioconductor
  version 3.13
** testing if installed package keeps a record of temporary installation path

install for x64

* installing *source* package 'pathprint' ...
** testing if installed package can be loaded
Warning: Package 'pathprint' is deprecated and will be removed from Bioconductor
  version 3.13
* MD5 sums
packaged installation of 'pathprint' as pathprint_1.20.0.zip
* DONE (pathprint)