Back to Multiple platform build/check report for BioC 3.12
ABCDEFGHIJKLMNO[P]QRSTUVWXYZ

BUILD report for pathprint on merida1

This page was generated on 2021-04-22 12:36:28 -0400 (Thu, 22 Apr 2021).

To the developers/maintainers of the pathprint package:
Please make sure to use the following settings in order to reproduce any error or warning you see on this page.
Package 1306/1974HostnameOS / ArchINSTALLBUILDCHECKBUILD BIN
pathprint 1.20.0  (landing page)
Sokratis Kariotis
Snapshot Date: 2021-04-21 14:50:06 -0400 (Wed, 21 Apr 2021)
URL: https://git.bioconductor.org/packages/pathprint
Branch: RELEASE_3_12
Last Commit: c7e4ddd
Last Changed Date: 2020-10-27 11:22:19 -0400 (Tue, 27 Oct 2020)
malbec1Linux (Ubuntu 18.04.5 LTS) / x86_64  OK    OK    ERROR  
tokay1Windows Server 2012 R2 Standard / x64  OK    OK    ERROR    OK  
merida1macOS 10.14.6 Mojave / x86_64  OK    OK    ERROR    OK  

Summary

Package: pathprint
Version: 1.20.0
Command: /Library/Frameworks/R.framework/Versions/Current/Resources/bin/R CMD build --keep-empty-dirs --no-resave-data pathprint
StartedAt: 2021-04-21 21:09:00 -0400 (Wed, 21 Apr 2021)
EndedAt: 2021-04-21 21:10:37 -0400 (Wed, 21 Apr 2021)
EllapsedTime: 97.8 seconds
RetCode: 0
Status:   OK  
PackageFile: pathprint_1.20.0.tar.gz
PackageFileSize: 1.093 MiB

Command output

##############################################################################
##############################################################################
###
### Running command:
###
###   /Library/Frameworks/R.framework/Versions/Current/Resources/bin/R CMD build --keep-empty-dirs --no-resave-data pathprint
###
##############################################################################
##############################################################################


* checking for file ‘pathprint/DESCRIPTION’ ... OK
* preparing ‘pathprint’:
* checking DESCRIPTION meta-information ... OK
* installing the package to build vignettes
* creating vignettes ... OK
* checking for LF line-endings in source and make files and shell scripts
* checking for empty or unneeded directories
* looking to see if a ‘data/datalist’ file should be added
* building ‘pathprint_1.20.0.tar.gz’