Back to Multiple platform build/check report for BioC 3.12
ABCDEFGHIJKLMNO[P]QRSTUVWXYZ

Multiple platform build/check report for BioC 3.12

Results for pathprint

This page was generated on 2021-01-25 11:47:45 -0500 (Mon, 25 Jan 2021).

Package 1306/1974HostnameOS / ArchINSTALLBUILDCHECKBUILD BIN
pathprint 1.20.0
Sokratis Kariotis
Snapshot Date: 2021-01-24 14:40:16 -0500 (Sun, 24 Jan 2021)
URL: https://git.bioconductor.org/packages/pathprint
Branch: RELEASE_3_12
Last Commit: c7e4ddd
Last Changed Date: 2020-10-27 11:22:19 -0500 (Tue, 27 Oct 2020)
malbec1 Linux (Ubuntu 18.04.5 LTS) / x86_64  OK  OK  ERROR 
nebbiolo1 Linux (Ubuntu 20.04.1 LTS) / x86_64  OK  OK  ERROR 
tokay1 Windows Server 2012 R2 Standard / x64  OK  OK  ERROR  OK 
merida1 macOS 10.14.6 Mojave / x86_64  OK  OK  ERROR  OK