Index of /checkResults/release/bioc-LATEST/pairkat/raw-results/palomino3

[ICO]NameLast modifiedSizeDescription

[DIR]Parent Directory  -  
[TXT]buildbin-out.txt15-Jun-2024 03:38 1.1K 
[   ]buildbin-summary.dcf15-Jun-2024 03:38 516  
[TXT]buildsrc-out.txt15-Jun-2024 03:38 899  
[   ]buildsrc-summary.dcf15-Jun-2024 03:38 451  
[TXT]checksrc-out.txt15-Jun-2024 03:38 3.3K 
[   ]checksrc-summary.dcf15-Jun-2024 03:38 447  
[TXT]install-out.txt15-Jun-2024 03:38 971  
[   ]install-summary.dcf15-Jun-2024 03:38 268