Index of /checkResults/release/bioc-LATEST/pairkat/raw-results/nebbiolo1

[ICO]NameLast modifiedSizeDescription

[DIR]Parent Directory  -  
[TXT]buildsrc-out.txt19-Jun-2024 06:58 869  
[   ]buildsrc-summary.dcf19-Jun-2024 06:58 418  
[TXT]checksrc-out.txt19-Jun-2024 06:58 3.3K 
[   ]checksrc-summary.dcf19-Jun-2024 06:58 414  
[TXT]install-out.txt19-Jun-2024 06:58 960  
[   ]install-summary.dcf19-Jun-2024 06:58 259