Index of /checkResults/release/bioc-LATEST/pairkat/raw-results/merida1

[ICO]NameLast modifiedSizeDescription

[DIR]Parent Directory  -  
[TXT]buildbin-out.txt19-Jun-2024 07:00 1.2K 
[   ]buildbin-summary.dcf19-Jun-2024 07:00 530  
[TXT]buildsrc-out.txt19-Jun-2024 07:00 879  
[   ]buildsrc-summary.dcf19-Jun-2024 07:00 428  
[TXT]checksrc-out.txt19-Jun-2024 07:00 3.4K 
[   ]checksrc-summary.dcf19-Jun-2024 07:00 444  
[TXT]install-out.txt19-Jun-2024 07:00 1.0K 
[   ]install-summary.dcf19-Jun-2024 07:00 269