Back to Multiple platform build/check report for BioC 3.17:   simplified   long
ABCDEFGHIJKLMNO[P]QRSTUVWXYZ

This page was generated on 2023-10-04 11:36:47 -0400 (Wed, 04 Oct 2023).

HostnameOSArch (*)R versionInstalled pkgs
nebbiolo1Linux (Ubuntu 22.04.2 LTS)x86_644.3.1 (2023-06-16) -- "Beagle Scouts" 4626
palomino3Windows Server 2022 Datacenterx644.3.1 (2023-06-16 ucrt) -- "Beagle Scouts" 4379
merida1macOS 12.6.4 Montereyx86_644.3.1 (2023-06-16) -- "Beagle Scouts" 4395
Click on any hostname to see more info about the system (e.g. compilers)      (*) as reported by 'uname -p', except on Windows and Mac OS X

Package 1568/2230HostnameOS / ArchINSTALLBUILDCHECKBUILD BIN
pRolocGUI 2.10.0  (landing page)
Lisa Breckels
Snapshot Date: 2023-10-03 14:00:15 -0400 (Tue, 03 Oct 2023)
git_url: https://git.bioconductor.org/packages/pRolocGUI
git_branch: RELEASE_3_17
git_last_commit: c67a6b3
git_last_commit_date: 2023-04-25 10:33:00 -0400 (Tue, 25 Apr 2023)
nebbiolo1Linux (Ubuntu 22.04.2 LTS) / x86_64  OK    OK    OK  UNNEEDED, same version is already published
palomino3Windows Server 2022 Datacenter / x64  OK    OK    OK    OK  UNNEEDED, same version is already published
merida1macOS 12.6.4 Monterey / x86_64  OK    OK    OK    OK  UNNEEDED, same version is already published

BUILD BIN results for pRolocGUI on palomino3


To the developers/maintainers of the pRolocGUI package:
- Allow up to 24 hours (and sometimes 48 hours) for your latest push to git@git.bioconductor.org:packages/pRolocGUI.git to reflect on this report. See Troubleshooting Build Report for more information.
- Use the following Renviron settings to reproduce errors and warnings.
- If 'R CMD check' started to fail recently on the Linux builder(s) over a missing dependency, add the missing dependency to 'Suggests:' in your DESCRIPTION file. See Renviron.bioc for more information.

raw results


Summary

Package: pRolocGUI
Version: 2.10.0
Command: rm -rf pRolocGUI.buildbin-libdir && mkdir pRolocGUI.buildbin-libdir && F:\biocbuild\bbs-3.17-bioc\R\bin\R.exe CMD INSTALL --build --library=pRolocGUI.buildbin-libdir pRolocGUI_2.10.0.tar.gz
StartedAt: 2023-10-04 09:20:09 -0400 (Wed, 04 Oct 2023)
EndedAt: 2023-10-04 09:21:06 -0400 (Wed, 04 Oct 2023)
EllapsedTime: 56.9 seconds
RetCode: 0
Status:   OK  
PackageFile: pRolocGUI_2.10.0.zip
PackageFileSize: 1.775 MiB

Command output

##############################################################################
##############################################################################
###
### Running command:
###
###   rm -rf pRolocGUI.buildbin-libdir && mkdir pRolocGUI.buildbin-libdir && F:\biocbuild\bbs-3.17-bioc\R\bin\R.exe CMD INSTALL --build --library=pRolocGUI.buildbin-libdir pRolocGUI_2.10.0.tar.gz
###
##############################################################################
##############################################################################


* installing *source* package 'pRolocGUI' ...
** using staged installation
** R
** inst
** byte-compile and prepare package for lazy loading
** help
*** installing help indices
** building package indices
** installing vignettes
** testing if installed package can be loaded from temporary location
** testing if installed package can be loaded from final location
** testing if installed package keeps a record of temporary installation path
* MD5 sums
packaged installation of 'pRolocGUI' as pRolocGUI_2.10.0.zip
* DONE (pRolocGUI)