![]() | Name | Last modified | Size | Description |
---|---|---|---|---|
![]() | Parent Directory | - | ||
![]() | buildbin-out.txt | 23-Sep-2023 00:36 | 2.5K | |
![]() | buildbin-summary.dcf | 23-Sep-2023 00:36 | 510 | |
![]() | buildsrc-out.txt | 23-Sep-2023 00:36 | 926 | |
![]() | buildsrc-summary.dcf | 23-Sep-2023 00:36 | 448 | |
![]() | checksrc-out.txt | 23-Sep-2023 00:36 | 5.5K | |
![]() | checksrc-summary.dcf | 23-Sep-2023 00:36 | 443 | |
![]() | install-out.txt | 23-Sep-2023 00:36 | 2.4K | |
![]() | install-summary.dcf | 23-Sep-2023 00:36 | 267 | |