![]() | Name | Last modified | Size | Description |
---|---|---|---|---|
![]() | Parent Directory | - | ||
![]() | buildsrc-out.txt | 23-Sep-2023 00:35 | 895 | |
![]() | buildsrc-summary.dcf | 23-Sep-2023 00:35 | 415 | |
![]() | checksrc-out.txt | 23-Sep-2023 00:35 | 5.3K | |
![]() | checksrc-summary.dcf | 23-Sep-2023 00:35 | 410 | |
![]() | install-out.txt | 23-Sep-2023 00:35 | 2.2K | |
![]() | install-summary.dcf | 23-Sep-2023 00:35 | 257 | |