Index of /checkResults/release/bioc-LATEST/oppti/raw-results

[ICO]NameLast modifiedSizeDescription

[DIR]Parent Directory  -  
[   ]info.dcf09-Dec-2023 01:38 276  
[DIR]kunpeng2/03-Nov-2023 00:41 -  
[DIR]lconway/09-Dec-2023 01:38 -  
[DIR]nebbiolo2/09-Dec-2023 01:36 -  
[DIR]palomino4/09-Dec-2023 01:37 -