Index of /checkResults/release/bioc-LATEST/oposSOM/raw-results
Name
Last modified
Size
Description
Parent Directory
-
info.dcf
21-May-2024 00:35
284
kunpeng2/
10-May-2024 00:41
-
lconway/
21-May-2024 00:38
-
merida1/
05-Mar-2024 01:39
-
nebbiolo1/
21-May-2024 00:36
-
palomino3/
21-May-2024 00:37
-