Index of /checkResults/release/bioc-LATEST/openCyto/raw-results/palomino4

[ICO]NameLast modifiedSizeDescription

[DIR]Parent Directory  -  
[TXT]buildbin-out.txt30-Mar-2024 00:37 5.9K 
[   ]buildbin-summary.dcf30-Mar-2024 00:37 521  
[TXT]buildsrc-out.txt30-Mar-2024 00:37 1.1K 
[   ]buildsrc-summary.dcf30-Mar-2024 00:37 457  
[TXT]checksrc-out.txt30-Mar-2024 00:37 21K 
[   ]checksrc-summary.dcf30-Mar-2024 00:37 457  
[TXT]install-out.txt30-Mar-2024 00:37 5.7K 
[   ]install-summary.dcf30-Mar-2024 00:37 270