Index of /checkResults/release/bioc-LATEST/openCyto/raw-results/nebbiolo2

[ICO]NameLast modifiedSizeDescription

[DIR]Parent Directory  -  
[TXT]buildsrc-out.txt30-Mar-2024 00:36 1.1K 
[   ]buildsrc-summary.dcf30-Mar-2024 00:36 421  
[TXT]checksrc-out.txt30-Mar-2024 00:36 22K 
[   ]checksrc-summary.dcf30-Mar-2024 00:36 424  
[TXT]install-out.txt30-Mar-2024 00:36 5.6K 
[   ]install-summary.dcf30-Mar-2024 00:36 261