Index of /checkResults/release/bioc-LATEST/openCyto/raw-results/merida1

[ICO]NameLast modifiedSizeDescription

[DIR]Parent Directory  -  
[TXT]buildbin-out.txt18-Feb-2024 16:28 5.8K 
[   ]buildbin-summary.dcf18-Feb-2024 16:28 536  
[TXT]buildsrc-out.txt05-Mar-2024 01:39 1.8K 
[   ]buildsrc-summary.dcf05-Mar-2024 01:39 345  
[TXT]checksrc-out.txt18-Feb-2024 16:28 22K 
[   ]checksrc-summary.dcf18-Feb-2024 16:28 454  
[TXT]install-out.txt05-Mar-2024 01:39 3.8K 
[   ]install-summary.dcf05-Mar-2024 01:39 271