Name | Last modified | Size | Description | |
---|---|---|---|---|
Parent Directory | - | |||
buildbin-out.txt | 12-Jun-2024 03:42 | 5.8K | ||
buildbin-summary.dcf | 12-Jun-2024 03:42 | 536 | ||
buildsrc-out.txt | 12-Jun-2024 03:42 | 1.1K | ||
buildsrc-summary.dcf | 12-Jun-2024 03:42 | 429 | ||
checksrc-out.txt | 12-Jun-2024 03:42 | 22K | ||
checksrc-summary.dcf | 12-Jun-2024 03:42 | 454 | ||
install-out.txt | 12-Jun-2024 03:42 | 3.8K | ||
install-summary.dcf | 12-Jun-2024 03:42 | 271 | ||