Name | Last modified | Size | Description | |
---|---|---|---|---|
Parent Directory | - | |||
install-summary.dcf | 22-Jun-2024 06:39 | 270 | ||
install-out.txt | 22-Jun-2024 06:39 | 1.0K | ||
checksrc-summary.dcf | 22-Jun-2024 06:39 | 452 | ||
checksrc-out.txt | 22-Jun-2024 06:39 | 6.1K | ||
buildsrc-summary.dcf | 22-Jun-2024 06:39 | 457 | ||
buildsrc-out.txt | 22-Jun-2024 06:39 | 904 | ||
buildbin-summary.dcf | 22-Jun-2024 06:39 | 522 | ||
buildbin-out.txt | 22-Jun-2024 06:39 | 1.1K | ||