Index of /checkResults/release/bioc-LATEST/ontoProc/raw-results/kunpeng2
Name
Last modified
Size
Description
Parent Directory
-
buildsrc-out.txt
10-May-2024 00:41
1.2K
buildsrc-summary.dcf
10-May-2024 00:41
347
install-out.txt
10-May-2024 00:41
1.0K
install-summary.dcf
10-May-2024 00:41
272