Index of /checkResults/release/bioc-LATEST/ontoProc/raw-results/kjohnson1
Name
Last modified
Size
Description
Parent Directory
-
buildsrc-out.txt
26-Jun-2024 06:43
1.2K
buildsrc-summary.dcf
26-Jun-2024 06:43
346
install-out.txt
26-Jun-2024 06:43
1.0K
install-summary.dcf
26-Jun-2024 06:43
271