Back to Multiple platform build/check report for BioC 3.16:   simplified   long
ABCDEFGHIJKLMN[O]PQRSTUVWXYZ

This page was generated on 2023-03-20 11:05:39 -0400 (Mon, 20 Mar 2023).

HostnameOSArch (*)R versionInstalled pkgs
nebbiolo2Linux (Ubuntu 20.04.5 LTS)x86_644.2.2 (2022-10-31) -- "Innocent and Trusting" 4516
palomino4Windows Server 2022 Datacenterx644.2.2 (2022-10-31 ucrt) -- "Innocent and Trusting" 4295
lconwaymacOS 12.5.1 Montereyx86_644.2.2 (2022-10-31) -- "Innocent and Trusting" 4324
Click on any hostname to see more info about the system (e.g. compilers)      (*) as reported by 'uname -p', except on Windows and Mac OS X

BUILD results for omicRexposome on palomino4


To the developers/maintainers of the omicRexposome package:
- Please allow up to 24 hours (and sometimes 48 hours) for your latest push to git@git.bioconductor.org:packages/omicRexposome.git to
reflect on this report. See How and When does the builder pull? When will my changes propagate? for more information.
- Make sure to use the following settings in order to reproduce any error or warning you see on this page.

raw results

Package 1387/2183HostnameOS / ArchINSTALLBUILDCHECKBUILD BIN
omicRexposome 1.20.0  (landing page)
Xavier EscribĂ  Montagut
Snapshot Date: 2023-03-17 14:00:04 -0400 (Fri, 17 Mar 2023)
git_url: https://git.bioconductor.org/packages/omicRexposome
git_branch: RELEASE_3_16
git_last_commit: 351df06
git_last_commit_date: 2022-11-01 11:16:28 -0400 (Tue, 01 Nov 2022)
nebbiolo2Linux (Ubuntu 20.04.5 LTS) / x86_64  OK    OK    ERROR  
palomino4Windows Server 2022 Datacenter / x64  OK    OK    OK    OK  UNNEEDED, same version is already published
lconwaymacOS 12.5.1 Monterey / x86_64  OK    OK    OK    OK  UNNEEDED, same version is already published

Summary

Package: omicRexposome
Version: 1.20.0
Command: chmod a+r omicRexposome -R && F:\biocbuild\bbs-3.16-bioc\R\bin\R.exe CMD build --keep-empty-dirs --no-resave-data omicRexposome
StartedAt: 2023-03-17 20:18:37 -0400 (Fri, 17 Mar 2023)
EndedAt: 2023-03-17 20:47:37 -0400 (Fri, 17 Mar 2023)
EllapsedTime: 1740.7 seconds
RetCode: 0
Status:   OK  
PackageFile: omicRexposome_1.20.0.tar.gz
PackageFileSize: 1.898 MiB

Command output

##############################################################################
##############################################################################
###
### Running command:
###
###   chmod a+r omicRexposome -R && F:\biocbuild\bbs-3.16-bioc\R\bin\R.exe CMD build --keep-empty-dirs --no-resave-data omicRexposome
###
##############################################################################
##############################################################################


* checking for file 'omicRexposome/DESCRIPTION' ... OK
* preparing 'omicRexposome':
* checking DESCRIPTION meta-information ... OK
* installing the package to build vignettes
* creating vignettes ... OK
* checking for LF line-endings in source and make files and shell scripts
* checking for empty or unneeded directories
  NB: this package now depends on R (>= 3.5.0)
  WARNING: Added dependency on R >= 3.5.0 because serialized objects in
  serialize/load version 3 cannot be read in older versions of R.
  File(s) containing such objects:
    'omicRexposome/data/mds.rda'
* building 'omicRexposome_1.20.0.tar.gz'