Index of /checkResults/release/bioc-LATEST/octad/raw-results/kunpeng2
Name
Last modified
Size
Description
Parent Directory
-
buildsrc-out.txt
03-Nov-2023 00:41
686
buildsrc-summary.dcf
03-Nov-2023 00:41
323
install-out.txt
03-Nov-2023 00:41
942
install-summary.dcf
03-Nov-2023 00:41
248