![]() | Name | Last modified | Size | Description |
---|---|---|---|---|
![]() | Parent Directory | - | ||
![]() | buildsrc-out.txt | 24-Sep-2023 00:35 | 1.1K | |
![]() | buildsrc-summary.dcf | 24-Sep-2023 00:35 | 415 | |
![]() | checksrc-out.txt | 24-Sep-2023 00:35 | 4.6K | |
![]() | checksrc-summary.dcf | 24-Sep-2023 00:35 | 416 | |
![]() | install-out.txt | 24-Sep-2023 00:35 | 1.4K | |
![]() | install-summary.dcf | 24-Sep-2023 00:35 | 257 | |