Back to Multiple platform build/check report for BioC 3.16:   simplified   long
ABCDEFGHIJKLM[N]OPQRSTUVWXYZ

This page was generated on 2023-03-24 11:05:35 -0400 (Fri, 24 Mar 2023).

HostnameOSArch (*)R versionInstalled pkgs
nebbiolo2Linux (Ubuntu 20.04.5 LTS)x86_644.2.3 (2023-03-15) -- "Shortstop Beagle" 4286
palomino4Windows Server 2022 Datacenterx644.2.3 (2023-03-15 ucrt) -- "Shortstop Beagle" 4276
lconwaymacOS 12.5.1 Montereyx86_644.2.3 (2023-03-15) -- "Shortstop Beagle" 4303
Click on any hostname to see more info about the system (e.g. compilers)      (*) as reported by 'uname -p', except on Windows and Mac OS X

INSTALL results for nucleR on nebbiolo2


To the developers/maintainers of the nucleR package:
- Please allow up to 24 hours (and sometimes 48 hours) for your latest push to git@git.bioconductor.org:packages/nucleR.git to
reflect on this report. See How and When does the builder pull? When will my changes propagate? for more information.
- Make sure to use the following settings in order to reproduce any error or warning you see on this page.

raw results

Package 1367/2183HostnameOS / ArchINSTALLBUILDCHECKBUILD BIN
nucleR 2.30.0  (landing page)
Alba Sala
Snapshot Date: 2023-03-22 14:00:04 -0400 (Wed, 22 Mar 2023)
git_url: https://git.bioconductor.org/packages/nucleR
git_branch: RELEASE_3_16
git_last_commit: 8697d8d
git_last_commit_date: 2022-11-01 11:06:05 -0400 (Tue, 01 Nov 2022)
nebbiolo2Linux (Ubuntu 20.04.5 LTS) / x86_64  OK    OK    WARNINGS  UNNEEDED, same version is already published
palomino4Windows Server 2022 Datacenter / x64  OK    OK    WARNINGS    OK  UNNEEDED, same version is already published
lconwaymacOS 12.5.1 Monterey / x86_64  OK    OK    WARNINGS    OK  UNNEEDED, same version is already published

Summary

Package: nucleR
Version: 2.30.0
Command: /home/biocbuild/bbs-3.16-bioc/R/bin/R CMD INSTALL nucleR
StartedAt: 2023-03-22 15:38:34 -0400 (Wed, 22 Mar 2023)
EndedAt: 2023-03-22 15:39:06 -0400 (Wed, 22 Mar 2023)
EllapsedTime: 31.6 seconds
RetCode: 0
Status:   OK  

Command output

##############################################################################
##############################################################################
###
### Running command:
###
###   /home/biocbuild/bbs-3.16-bioc/R/bin/R CMD INSTALL nucleR
###
##############################################################################
##############################################################################


* installing to library ‘/home/biocbuild/bbs-3.16-bioc/R/site-library’
* installing *source* package ‘nucleR’ ...
** using staged installation
** R
** data
** inst
** byte-compile and prepare package for lazy loading
Loading required package: usethis

Welcome at Wed Mar 22 15:38:36 2023 

Goodbye at  Wed Mar 22 15:38:46 2023 
** help
*** installing help indices
** building package indices
Loading required package: usethis

Welcome at Wed Mar 22 15:38:48 2023 

Goodbye at  Wed Mar 22 15:38:48 2023 
** installing vignettes
** testing if installed package can be loaded from temporary location
Loading required package: usethis

Welcome at Wed Mar 22 15:38:49 2023 

Goodbye at  Wed Mar 22 15:38:56 2023 
** testing if installed package can be loaded from final location
Loading required package: usethis

Welcome at Wed Mar 22 15:38:57 2023 

Goodbye at  Wed Mar 22 15:39:05 2023 
** testing if installed package keeps a record of temporary installation path
* DONE (nucleR)