![]() | Name | Last modified | Size | Description |
---|---|---|---|---|
![]() | Parent Directory | - | ||
![]() | buildsrc-out.txt | 30-Sep-2023 00:35 | 893 | |
![]() | buildsrc-summary.dcf | 30-Sep-2023 00:35 | 435 | |
![]() | checksrc-out.txt | 30-Sep-2023 00:35 | 3.6K | |
![]() | checksrc-summary.dcf | 30-Sep-2023 00:35 | 437 | |
![]() | install-out.txt | 30-Sep-2023 00:35 | 970 | |
![]() | install-summary.dcf | 30-Sep-2023 00:35 | 271 | |