Index of /checkResults/release/bioc-LATEST/normalize450K/raw-results
Name
Last modified
Size
Description
Parent Directory
-
info.dcf
30-Sep-2023 00:37
299
merida1/
30-Sep-2023 00:37
-
nebbiolo1/
30-Sep-2023 00:35
-
palomino3/
30-Sep-2023 00:36
-