Index of /checkResults/release/bioc-LATEST/nnNorm/raw-results
Name
Last modified
Size
Description
Parent Directory
-
info.dcf
08-Jun-2023 00:07
276
merida1/
08-Jun-2023 00:07
-
nebbiolo1/
08-Jun-2023 00:05
-
palomino3/
08-Jun-2023 00:06
-