Name | Last modified | Size | Description | |
---|---|---|---|---|
Parent Directory | - | |||
checksrc-out.txt | 10-Jul-2024 06:42 | 3.5K | ||
buildbin-out.txt | 10-Jul-2024 06:42 | 1.2K | ||
install-out.txt | 10-Jul-2024 06:42 | 1.0K | ||
buildsrc-out.txt | 10-Jul-2024 06:42 | 830 | ||
buildbin-summary.dcf | 10-Jul-2024 06:42 | 545 | ||
checksrc-summary.dcf | 10-Jul-2024 06:42 | 454 | ||
buildsrc-summary.dcf | 10-Jul-2024 06:42 | 435 | ||
install-summary.dcf | 10-Jul-2024 06:42 | 274 | ||