Name | Last modified | Size | Description | |
---|---|---|---|---|
Parent Directory | - | |||
install-out.txt | 10-May-2024 00:41 | 1.0K | ||
install-summary.dcf | 10-May-2024 00:41 | 272 | ||
buildsrc-out.txt | 10-May-2024 00:41 | 821 | ||
buildsrc-summary.dcf | 10-May-2024 00:41 | 431 | ||
checksrc-out.txt | 10-May-2024 00:41 | 3.4K | ||
checksrc-summary.dcf | 10-May-2024 00:41 | 455 | ||