Back to Multiple platform build/check report for BioC 3.17:   simplified   long
ABCDEFGHIJKLM[N]OPQRSTUVWXYZ

This page was generated on 2023-09-27 11:36:40 -0400 (Wed, 27 Sep 2023).

HostnameOSArch (*)R versionInstalled pkgs
nebbiolo1Linux (Ubuntu 22.04.2 LTS)x86_644.3.1 (2023-06-16) -- "Beagle Scouts" 4625
palomino3Windows Server 2022 Datacenterx644.3.1 (2023-06-16 ucrt) -- "Beagle Scouts" 4378
merida1macOS 12.6.4 Montereyx86_644.3.1 (2023-06-16) -- "Beagle Scouts" 4394
Click on any hostname to see more info about the system (e.g. compilers)      (*) as reported by 'uname -p', except on Windows and Mac OS X

Package 1375/2230HostnameOS / ArchINSTALLBUILDCHECKBUILD BIN
nethet 1.32.0  (landing page)
Nicolas Staedler
Snapshot Date: 2023-09-26 14:00:14 -0400 (Tue, 26 Sep 2023)
git_url: https://git.bioconductor.org/packages/nethet
git_branch: RELEASE_3_17
git_last_commit: 707c60a
git_last_commit_date: 2023-04-25 10:36:49 -0400 (Tue, 25 Apr 2023)
nebbiolo1Linux (Ubuntu 22.04.2 LTS) / x86_64  OK    OK    WARNINGS  UNNEEDED, same version is already published
palomino3Windows Server 2022 Datacenter / x64  OK    OK    WARNINGS    OK  UNNEEDED, same version is already published
merida1macOS 12.6.4 Monterey / x86_64  OK    OK    WARNINGS    OK  UNNEEDED, same version is already published

BUILD results for nethet on palomino3


To the developers/maintainers of the nethet package:
- Allow up to 24 hours (and sometimes 48 hours) for your latest push to git@git.bioconductor.org:packages/nethet.git to reflect on this report. See Troubleshooting Build Report for more information.
- Use the following Renviron settings to reproduce errors and warnings.
- If 'R CMD check' started to fail recently on the Linux builder(s) over a missing dependency, add the missing dependency to 'Suggests:' in your DESCRIPTION file. See Renviron.bioc for more information.

raw results


Summary

Package: nethet
Version: 1.32.0
Command: chmod a+r nethet -R && F:\biocbuild\bbs-3.17-bioc\R\bin\R.exe CMD build --keep-empty-dirs --no-resave-data nethet
StartedAt: 2023-09-26 20:53:16 -0400 (Tue, 26 Sep 2023)
EndedAt: 2023-09-26 20:56:46 -0400 (Tue, 26 Sep 2023)
EllapsedTime: 210.2 seconds
RetCode: 0
Status:   OK  
PackageFile: nethet_1.32.0.tar.gz
PackageFileSize: 699.4 KiB

Command output

##############################################################################
##############################################################################
###
### Running command:
###
###   chmod a+r nethet -R && F:\biocbuild\bbs-3.17-bioc\R\bin\R.exe CMD build --keep-empty-dirs --no-resave-data nethet
###
##############################################################################
##############################################################################


* checking for file 'nethet/DESCRIPTION' ... OK
* preparing 'nethet':
* checking DESCRIPTION meta-information ... OK
* cleaning src
* installing the package to build vignettes
* creating vignettes ... OK
* cleaning src
* checking for LF line-endings in source and make files and shell scripts
* checking for empty or unneeded directories
* building 'nethet_1.32.0.tar.gz'