Index of /checkResults/release/bioc-LATEST/netboost/raw-results
Name
Last modified
Size
Description
Parent Directory
-
info.dcf
15-Jun-2024 03:37
295
nebbiolo1/
15-Jun-2024 03:37
-
merida1/
05-Mar-2024 01:39
-
lconway/
12-Jun-2024 03:42
-
kunpeng2/
10-May-2024 00:41
-
kjohnson3/
12-Jun-2024 03:44
-