Back to Multiple platform build/check report for BioC 3.12
ABCDEFGHIJKLM[N]OPQRSTUVWXYZ

Multiple platform build/check report for BioC 3.12

Results for netbenchmark

This page was generated on 2020-11-23 12:11:17 -0500 (Mon, 23 Nov 2020).

Package 1212/1974HostnameOS / ArchINSTALLBUILDCHECKBUILD BIN
netbenchmark 1.22.0
Pau Bellot
Snapshot Date: 2020-11-22 14:42:09 -0500 (Sun, 22 Nov 2020)
URL: https://git.bioconductor.org/packages/netbenchmark
Branch: RELEASE_3_12
Last Commit: ebeb616
Last Changed Date: 2020-10-27 11:03:19 -0500 (Tue, 27 Oct 2020)
malbec1 Linux (Ubuntu 18.04.4 LTS) / x86_64  ERROR  ERROR  skipped 
nebbiolo1 Linux (Ubuntu 20.04.1 LTS) / x86_64  ERROR  ERROR  skipped 
tokay1 Windows Server 2012 R2 Standard / x64  ERROR  ERROR  skipped  skipped 
merida1 macOS 10.14.6 Mojave / x86_64  ERROR  ERROR  skipped  skipped