Index of /checkResults/release/bioc-LATEST/netOmics/raw-results/nebbiolo1

[ICO]NameLast modifiedSizeDescription

[DIR]Parent Directory  -  
[TXT]buildsrc-out.txt20-Jul-2024 06:37 1.0K 
[   ]buildsrc-summary.dcf20-Jul-2024 06:37 335  
[TXT]checksrc-out.txt08-Mar-2024 02:01 5.4K 
[   ]checksrc-summary.dcf08-Mar-2024 02:01 416  
[TXT]install-out.txt20-Jul-2024 06:37 963  
[   ]install-summary.dcf20-Jul-2024 06:37 261