Index of /checkResults/release/bioc-LATEST/netOmics/raw-results/merida1
Name
Last modified
Size
Description
Parent Directory
-
install-out.txt
18-Apr-2024 00:38
710
install-summary.dcf
18-Apr-2024 00:38
272
buildsrc-out.txt
18-Apr-2024 00:38
906
buildsrc-summary.dcf
18-Apr-2024 00:38
343