Index of /checkResults/release/bioc-LATEST/netOmics/raw-results/merida1

[ICO]NameLast modifiedSizeDescription

[DIR]Parent Directory  -  
[TXT]buildbin-out.txt05-Mar-2024 01:39 1.2K 
[   ]buildbin-summary.dcf05-Mar-2024 01:39 533  
[TXT]buildsrc-out.txt20-Jul-2024 06:40 1.0K 
[   ]buildsrc-summary.dcf20-Jul-2024 06:40 345  
[TXT]checksrc-out.txt05-Mar-2024 01:39 5.5K 
[   ]checksrc-summary.dcf05-Mar-2024 01:39 446  
[TXT]install-out.txt20-Jul-2024 06:40 1.0K 
[   ]install-summary.dcf20-Jul-2024 06:40 271