Name | Last modified | Size | Description | |
---|---|---|---|---|
Parent Directory | - | |||
checksrc-out.txt | 13-Mar-2024 00:40 | 5.5K | ||
buildsrc-out.txt | 10-May-2024 00:41 | 1.0K | ||
install-out.txt | 10-May-2024 00:41 | 1.0K | ||
checksrc-summary.dcf | 13-Mar-2024 00:40 | 455 | ||
buildsrc-summary.dcf | 10-May-2024 00:41 | 346 | ||
install-summary.dcf | 10-May-2024 00:41 | 272 | ||