Name | Last modified | Size | Description | |
---|---|---|---|---|
Parent Directory | - | |||
buildbin-summary.dcf | 10-Jul-2024 06:42 | 536 | ||
buildbin-out.txt | 10-Jul-2024 06:42 | 5.6K | ||
checksrc-summary.dcf | 10-Jul-2024 06:42 | 454 | ||
checksrc-out.txt | 10-Jul-2024 06:42 | 6.6K | ||
buildsrc-summary.dcf | 10-Jul-2024 06:42 | 430 | ||
buildsrc-out.txt | 10-Jul-2024 06:42 | 850 | ||
install-summary.dcf | 10-Jul-2024 06:42 | 271 | ||
install-out.txt | 10-Jul-2024 06:42 | 3.3K | ||