Back to Multiple platform build/check report for BioC 3.18:   simplified   long
ABCDEFGHIJKLM[N]OPQRSTUVWXYZ

This page was generated on 2024-03-29 11:37:03 -0400 (Fri, 29 Mar 2024).

HostnameOSArch (*)R versionInstalled pkgs
nebbiolo2Linux (Ubuntu 22.04.3 LTS)x86_644.3.3 (2024-02-29) -- "Angel Food Cake" 4669
palomino4Windows Server 2022 Datacenterx644.3.3 (2024-02-29 ucrt) -- "Angel Food Cake" 4404
merida1macOS 12.7.1 Montereyx86_644.3.3 (2024-02-29) -- "Angel Food Cake" 4427
Click on any hostname to see more info about the system (e.g. compilers)      (*) as reported by 'uname -p', except on Windows and Mac OS X

Package 1390/2266HostnameOS / ArchINSTALLBUILDCHECKBUILD BIN
ncdfFlow 2.48.0  (landing page)
Mike Jiang
Snapshot Date: 2024-03-27 14:05:05 -0400 (Wed, 27 Mar 2024)
git_url: https://git.bioconductor.org/packages/ncdfFlow
git_branch: RELEASE_3_18
git_last_commit: 8367dea
git_last_commit_date: 2023-10-24 09:48:45 -0400 (Tue, 24 Oct 2023)
nebbiolo2Linux (Ubuntu 22.04.3 LTS) / x86_64  OK    OK    WARNINGS  UNNEEDED, same version is already published
palomino4Windows Server 2022 Datacenter / x64  OK    OK    WARNINGS    OK  UNNEEDED, same version is already published
merida1macOS 12.7.1 Monterey / x86_64  OK    OK    WARNINGS    OK  UNNEEDED, same version is already published
kjohnson1macOS 13.6.1 Ventura / arm64see weekly results here

INSTALL results for ncdfFlow on palomino4


To the developers/maintainers of the ncdfFlow package:
- Allow up to 24 hours (and sometimes 48 hours) for your latest push to git@git.bioconductor.org:packages/ncdfFlow.git to reflect on this report. See Troubleshooting Build Report for more information.
- Use the following Renviron settings to reproduce errors and warnings.
- If 'R CMD check' started to fail recently on the Linux builder(s) over a missing dependency, add the missing dependency to 'Suggests:' in your DESCRIPTION file. See Renviron.bioc for more information.

raw results


Summary

Package: ncdfFlow
Version: 2.48.0
Command: F:\biocbuild\bbs-3.18-bioc\R\bin\R.exe CMD INSTALL ncdfFlow
StartedAt: 2024-03-27 15:47:36 -0400 (Wed, 27 Mar 2024)
EndedAt: 2024-03-27 15:48:12 -0400 (Wed, 27 Mar 2024)
EllapsedTime: 36.1 seconds
RetCode: 0
Status:   OK  

Command output

##############################################################################
##############################################################################
###
### Running command:
###
###   F:\biocbuild\bbs-3.18-bioc\R\bin\R.exe CMD INSTALL ncdfFlow
###
##############################################################################
##############################################################################


* installing to library 'F:/biocbuild/bbs-3.18-bioc/R/library'
* installing *source* package 'ncdfFlow' ...
** using staged installation
** libs
using C++ compiler: 'G__~1.EXE (GCC) 12.3.0'
using C++11
g++  -std=gnu++11 -I"F:/biocbuild/bbs-3.18-bioc/R/include" -DNDEBUG  -I'F:/biocbuild/bbs-3.18-bioc/R/library/cpp11/include' -I'F:/biocbuild/bbs-3.18-bioc/R/library/BH/include' -I'F:/biocbuild/bbs-3.18-bioc/R/library/Rhdf5lib/include'   -I"C:/rtools43/x86_64-w64-mingw32.static.posix/include"     -O2 -Wall  -mfpmath=sse -msse2 -mstackrealign  -c cpp11.cpp -o cpp11.o
g++  -std=gnu++11 -I"F:/biocbuild/bbs-3.18-bioc/R/include" -DNDEBUG  -I'F:/biocbuild/bbs-3.18-bioc/R/library/cpp11/include' -I'F:/biocbuild/bbs-3.18-bioc/R/library/BH/include' -I'F:/biocbuild/bbs-3.18-bioc/R/library/Rhdf5lib/include'   -I"C:/rtools43/x86_64-w64-mingw32.static.posix/include"     -O2 -Wall  -mfpmath=sse -msse2 -mstackrealign  -c hdfFlow.cpp -o hdfFlow.o
hdfFlow.cpp: In function 'void readSlice_cpp(hid_t, hid_t, hid_t, std::vector<int>, int, int, double*, bool)':
hdfFlow.cpp:508:31: warning: comparison of integer expressions of different signedness: 'int' and 'unsigned int' [-Wsign-compare]
  508 |                 if(sampleIndx >= nSample)
      |                    ~~~~~~~~~~~^~~~~~~~~~
hdfFlow.cpp:493:21: warning: variable 'status' set but not used [-Wunused-but-set-variable]
  493 |         herr_t      status;
      |                     ^~~~~~
mkdir -p "F:/biocbuild/bbs-3.18-bioc/R/library/00LOCK-ncdfFlow/00new/ncdfFlow/lib/x64"
ar rs "F:/biocbuild/bbs-3.18-bioc/R/library/00LOCK-ncdfFlow/00new/ncdfFlow/lib/x64/libncdfFlow.a" cpp11.o hdfFlow.o
C:\rtools43\x86_64-w64-mingw32.static.posix\bin\ar.exe: creating F:/biocbuild/bbs-3.18-bioc/R/library/00LOCK-ncdfFlow/00new/ncdfFlow/lib/x64/libncdfFlow.a
g++ -shared -s -static-libgcc -o ncdfFlow.dll tmp.def cpp11.o hdfFlow.o -LF:/biocbuild/bbs-3.18-bioc/R/library/Rhdf5lib/lib/x64-ucrt -lhdf5_cpp -lhdf5 -lcurl -lssh2 -lssl -lcrypto -lwldap32 -lws2_32 -lcrypt32 -lsz -laec -lz -lpsapi -LC:/rtools43/x86_64-w64-mingw32.static.posix/lib/x64 -LC:/rtools43/x86_64-w64-mingw32.static.posix/lib -LF:/biocbuild/bbs-3.18-bioc/R/bin/x64 -lR
installing to F:/biocbuild/bbs-3.18-bioc/R/library/00LOCK-ncdfFlow/00new/ncdfFlow/libs/x64
** R
** inst
** byte-compile and prepare package for lazy loading
** help
*** installing help indices
** building package indices
** installing vignettes
** testing if installed package can be loaded from temporary location
** testing if installed package can be loaded from final location
** testing if installed package keeps a record of temporary installation path
* DONE (ncdfFlow)