Name | Last modified | Size | Description | |
---|---|---|---|---|
Parent Directory | - | |||
buildsrc-out.txt | 03-May-2024 00:42 | 929 | ||
buildsrc-summary.dcf | 03-May-2024 00:42 | 347 | ||
checksrc-out.txt | 19-Apr-2024 00:45 | 3.6K | ||
checksrc-summary.dcf | 19-Apr-2024 00:45 | 455 | ||
install-out.txt | 03-May-2024 00:42 | 693 | ||
install-summary.dcf | 03-May-2024 00:42 | 276 | ||