Back to Multiple platform build/check report for BioC 3.14
ABCDEFGHIJKL[M]NOPQRSTUVWXYZ

This page was generated on 2021-11-29 15:05:31 -0500 (Mon, 29 Nov 2021).

BUILD results for mzR on tokay2

To the developers/maintainers of the mzR package:
- Please allow up to 24 hours (and sometimes 48 hours) for your latest push to git@git.bioconductor.org:packages/mzR.git to
reflect on this report. See How and When does the builder pull? When will my changes propagate? here for more information.
- Make sure to use the following settings in order to reproduce any error or warning you see on this page.

raw results

Package 1262/2083HostnameOS / ArchINSTALLBUILDCHECKBUILD BIN
mzR 2.28.0  (landing page)
Steffen Neumann
Snapshot Date: 2021-11-28 04:15:06 -0500 (Sun, 28 Nov 2021)
git_url: https://git.bioconductor.org/packages/mzR
git_branch: RELEASE_3_14
git_last_commit: bee7d6f
git_last_commit_date: 2021-10-26 11:59:59 -0500 (Tue, 26 Oct 2021)
nebbiolo2Linux (Ubuntu 20.04.3 LTS) / x86_64  OK    OK    WARNINGS  UNNEEDED, same version is already published
tokay2Windows Server 2012 R2 Standard / x64  OK    OK    WARNINGS    OK  UNNEEDED, same version is already published
machv2macOS 10.14.6 Mojave / x86_64  OK    OK    WARNINGS    OK  UNNEEDED, same version is already published

Summary

Package: mzR
Version: 2.28.0
Command: chmod a+r mzR -R && C:\Users\biocbuild\bbs-3.14-bioc\R\bin\R.exe CMD build --keep-empty-dirs --no-resave-data mzR
StartedAt: 2021-11-28 14:36:58 -0500 (Sun, 28 Nov 2021)
EndedAt: 2021-11-28 14:50:27 -0500 (Sun, 28 Nov 2021)
EllapsedTime: 809.4 seconds
RetCode: 0
Status:   OK  
PackageFile: mzR_2.28.0.tar.gz
PackageFileSize: 8.403 MiB

Command output

##############################################################################
##############################################################################
###
### Running command:
###
###   chmod a+r mzR -R && C:\Users\biocbuild\bbs-3.14-bioc\R\bin\R.exe CMD build --keep-empty-dirs --no-resave-data mzR
###
##############################################################################
##############################################################################


* checking for file 'mzR/DESCRIPTION' ... OK
* preparing 'mzR':
* checking DESCRIPTION meta-information ... OK
* cleaning src
* installing the package to build vignettes
* creating vignettes ... OK
* cleaning src
* checking for LF line-endings in source and make files and shell scripts
* checking for empty or unneeded directories
* building 'mzR_2.28.0.tar.gz'
Warning: file 'mzR/cleanup' did not have execute permissions: corrected
Warning: file 'mzR/configure' did not have execute permissions: corrected