Index of /checkResults/release/bioc-LATEST/mzR/raw-results/tokay2

[ICO]NameLast modifiedSizeDescription

[DIR]Parent Directory  -  
[TXT]buildbin-out.txt22-Jan-2022 03:06 2.6M 
[   ]buildbin-summary.dcf22-Jan-2022 03:06 517  
[TXT]buildsrc-out.txt22-Jan-2022 03:06 1.0K 
[   ]buildsrc-summary.dcf22-Jan-2022 03:06 444  
[TXT]checksrc-out.txt22-Jan-2022 03:06 8.1K 
[   ]checksrc-summary.dcf22-Jan-2022 03:06 452  
[TXT]install-out.txt22-Jan-2022 03:06 2.6M 
[   ]install-summary.dcf22-Jan-2022 03:06 606