![]() | Name | Last modified | Size | Description |
---|---|---|---|---|
![]() | Parent Directory | - | ||
![]() | buildsrc-out.txt | 30-Sep-2023 00:35 | 868 | |
![]() | buildsrc-summary.dcf | 30-Sep-2023 00:35 | 406 | |
![]() | checksrc-out.txt | 30-Sep-2023 00:35 | 6.1K | |
![]() | checksrc-summary.dcf | 30-Sep-2023 00:35 | 403 | |
![]() | install-out.txt | 30-Sep-2023 00:35 | 121K | |
![]() | install-summary.dcf | 30-Sep-2023 00:35 | 252 | |