Name | Last modified | Size | Description | |
---|---|---|---|---|
Parent Directory | - | |||
buildbin-summary.dcf | 05-Mar-2024 01:39 | 508 | ||
buildbin-out.txt | 05-Mar-2024 01:39 | 108K | ||
checksrc-out.txt | 05-Mar-2024 01:39 | 5.8K | ||
checksrc-summary.dcf | 05-Mar-2024 01:39 | 434 | ||
buildsrc-summary.dcf | 05-Mar-2024 01:39 | 417 | ||
buildsrc-out.txt | 05-Mar-2024 01:39 | 878 | ||
install-summary.dcf | 05-Mar-2024 01:39 | 263 | ||
install-out.txt | 05-Mar-2024 01:39 | 106K | ||