![]() | Name | Last modified | Size | Description |
---|---|---|---|---|
![]() | Parent Directory | - | ||
![]() | buildbin-out.txt | 23-Sep-2023 00:37 | 107K | |
![]() | buildbin-summary.dcf | 23-Sep-2023 00:37 | 508 | |
![]() | buildsrc-out.txt | 23-Sep-2023 00:37 | 878 | |
![]() | buildsrc-summary.dcf | 23-Sep-2023 00:37 | 416 | |
![]() | checksrc-out.txt | 23-Sep-2023 00:37 | 5.6K | |
![]() | checksrc-summary.dcf | 23-Sep-2023 00:37 | 434 | |
![]() | install-out.txt | 23-Sep-2023 00:37 | 105K | |
![]() | install-summary.dcf | 23-Sep-2023 00:37 | 263 | |