Index of /checkResults/release/bioc-LATEST/mzR/raw-results/machv2

[ICO]NameLast modifiedSizeDescription

[DIR]Parent Directory  -  
[TXT]buildbin-out.txt15-Jan-2022 03:08 4.6M 
[   ]buildbin-summary.dcf15-Jan-2022 03:08 508  
[TXT]buildsrc-out.txt15-Jan-2022 03:08 878  
[   ]buildsrc-summary.dcf15-Jan-2022 03:08 417  
[TXT]checksrc-out.txt15-Jan-2022 03:08 5.3K 
[   ]checksrc-summary.dcf15-Jan-2022 03:08 434  
[TXT]install-out.txt15-Jan-2022 03:08 4.6M 
[   ]install-summary.dcf15-Jan-2022 03:08 262