Name | Last modified | Size | Description | |
---|---|---|---|---|
Parent Directory | - | |||
buildbin-out.txt | 03-May-2024 00:40 | 108K | ||
buildbin-summary.dcf | 03-May-2024 00:40 | 507 | ||
buildsrc-out.txt | 03-May-2024 00:40 | 878 | ||
buildsrc-summary.dcf | 03-May-2024 00:40 | 416 | ||
checksrc-out.txt | 03-May-2024 00:40 | 5.8K | ||
checksrc-summary.dcf | 03-May-2024 00:40 | 434 | ||
install-out.txt | 03-May-2024 00:40 | 106K | ||
install-summary.dcf | 03-May-2024 00:40 | 262 | ||